BEGIN:VCALENDAR
PRODID:www.trowista.de
VERSION:2.0
CALSCALE:GREGORIAN
BEGIN:VEVENT
UID:169c6153e79dbd9cba446faf631dd23a
DTSTAMP:20260423T093716Z
SUMMARY:Sichtbarkeit 2026: Was Unternehmen über Google und KI wissen müss
 en
DESCRIPTION:Im Rahmen des zweiten DFT-Online-Webinars erhalten Unternehmen 
 einen verständlichen Einstieg in die neue Sichtbarkeit zwischen Suchmasch
 ine und KI-Antwort. Die Art und Weise wie Unternehmen online gefunden werd
 en\, verändert sich derzeit spürbar. Neben den klassischen Suchergebniss
 en bei Google gewinnen vor allem KI-gestützte Antwortsysteme zunehmend an
  Bedeutung. Wenn Google sucht und KI antwortet\, stellt sich für Unterneh
 men mehr denn je die Frage\, wie sie digital sichtbar bleiben.Mit dem zwei
 ten Termin unserer regelmäßig stattfindenden Reihe DFT-Online greifen wi
 r dieses Thema auf. Unter dem Titel „GEO und AEO für Unternehmen“ gib
 t Nils Ehrenfried vom Troisdorfer Unternehmen Method & Motion einen praxis
 nahen Überblick darüber\, wie sich die digitale Auffindbarkeit im Zusamm
 enspiel von Suchmaschinen und KI-Anwendungen verändert und welche Aspekte
  für Unternehmen dabei entscheidend sind. Die Veranstaltung findet online
  via Microsoft Teams statt und bietet im Anschluss an den Vortrag Raum fü
 r Fragen und Diskussion.AnmeldungSeien Sie dabei und melden Sie sich bis z
 um 5.5.2026 an.\nBitte nutzen Sie den Button oder QR-Code für Ihre Anmel
 dung.Anmeldungmedium
DTSTART;TZID=Europe/Berlin:20260507T150000
DTEND;TZID=Europe/Berlin:20260507T160000
METHOD:PUBLISH
URL:https://www.trowista.de/termine-und-veranstaltungen/sichtbarkeit-2026-w
 as-unternehmen-ueber-google-und-ki-wissen-muessen
END:VEVENT
BEGIN:VTIMEZONE
TZID:Europe/Berlin
BEGIN:DAYLIGHT
DTSTART:20260507T150000
TZNAME:CEST
TZOFFSETTO:+0200
TZOFFSETFROM:+0200
END:DAYLIGHT
END:VTIMEZONE
END:VCALENDAR
